BEGIN:VCALENDAR
VERSION:2.0
PRODID:icalendar-ruby
CALSCALE:GREGORIAN
METHOD:PUBLISH
BEGIN:VEVENT
DTSTAMP:20260421T081710Z
UID:2105460b-5585-40be-bf5f-44086ad54bf5
DTSTART:20260508T080000
DTEND:20260509T220000
DESCRIPTION:<p>The highly anticipated Pridwin's Rugby 7s Festival is happen
 ing on Friday\, 8 May & Saturday\, 9 May 2026! Get ready to enjoy an excit
 ing weekend of rugby 7s with 14 teams battling it out on the field. These 
 matches will be starting on Friday and will be backed by great music\, foo
 d and drinks\, and an exciting Kids Playzone. On Saturday\, 9 May 2025 we 
 will be hosting the 7s play-offs\, as well as the Community Touch Rugby To
 urnament where members of the Pridwin Community submit their teams as they
  play against old boys\, former and current parents in a bid to win the co
 veted prize! Come for the rugby - stay for the community!</p><p><br></p><p
 >Event Times:</p><p><span style="color: rgb(34\, 34\, 34)\;">Friday\, 8 Ma
 y 2026 (14h00 - 22h00)</span></p><p><span style="color: rgb(34\, 34\, 34)\
 ;">Saturday\, 9 May 2026 (08h00 - 18h00)</span></p><p><br></p>
LOCATION:5 Greenacres Dr. Birdhaven
SUMMARY:Pridwin Rugby 7s Tournament powered by Dunlop Belting Products
URL;VALUE=URI:https://pridwin.howler.co.za/pridwinrugby7s
END:VEVENT
END:VCALENDAR
